BEGIN:VCALENDAR
VERSION:2.0
PRODID:-//hacksw/handcal//NONSGML v1.0//EN
BEGIN:VEVENT
SUMMARY:BREVETS 150 OU 200 KM - 26 AVRIL 2026
UID:244b0a90-488e-483f-a474-6a2fa0856d66
DTSTART:20260425T220000Z
DTEND:20260426T220000Z
LOCATION:Localisation   
CATEGORIES:Sportif
STATUS:
DESCRIPTION:<p style="text-align:center;"><span
 style="font-size:18px;"><strong><span
 style="color:#2980b9;">Cyclottes - Cyclos du C. R.
 Briviste</span></strong></span></p>
 
 <p
 style="text-align:center;"><span
 style="font-size:18px;"><strong><span style="color:#2980b9;">Vous
 etes invitees(es) a participer au brevet de 150 km ou, au choix pour
 les plus courageux, au brevet de 200
 km.</span></strong></span></p>
 
 <p style="text-align:center;"><span
 style="font-size:18px;"><strong><span style="color:#2980b9;">Dimanche
 26 avril 2026 - Salle de la Maison des Sports a
 Brive</span></strong></span></p>
 
 <p><a
 href="https://www.cyclorandobrive.org/wp-content/uploads/2026/04/3BrevetFederal26Avril150Km.pdf"
 target="_blank" rel="noreferrer noopener"><span
 style="color:#e74c3c;"><span
 style="font-size:18px;"><strong>Plaquette du 150 km, a
 telecharger</strong></span></span></a></p>
 
 <p><a
 href="https://www.cyclorandobrive.org/wp-content/uploads/2026/03/3BrevetRand26Avril200Km_compressed.pdf"
 target="_blank" rel="noreferrer noopener"><span
 style="color:#e74c3c;"><span
 style="font-size:18px;"><strong>Plaquette du 200 km, a
 telecharger</strong></span></span></a></p>
 
 <p> </p>
URL;VALUE=URI:https://randonneurbrivistecyclo.sportsregions.fr/evenements/2026/04/26/brevets-150-ou-200-km-26-avril-2026-2440442
END:VEVENT
END:VCALENDAR
